BEGIN:VCALENDAR
VERSION:2.0
PRODID:-//Canon Community Baptist Church - ECPv6.15.20//NONSGML v1.0//EN
CALSCALE:GREGORIAN
METHOD:PUBLISH
X-WR-CALNAME:Canon Community Baptist Church
X-ORIGINAL-URL:https://canoncommunitybaptist.com
X-WR-CALDESC:Events for Canon Community Baptist Church
REFRESH-INTERVAL;VALUE=DURATION:PT1H
X-Robots-Tag:noindex
X-PUBLISHED-TTL:PT1H
BEGIN:VTIMEZONE
TZID:UTC
BEGIN:STANDARD
TZOFFSETFROM:+0000
TZOFFSETTO:+0000
TZNAME:UTC
DTSTART:20250101T000000
END:STANDARD
END:VTIMEZONE
BEGIN:VEVENT
DTSTART;TZID=UTC:20260427T090000
DTEND;TZID=UTC:20260427T110000
DTSTAMP:20260423T130934
CREATED:20260414T191829Z
LAST-MODIFIED:20260414T191829Z
UID:1315-1777280400-1777287600@canoncommunitybaptist.com
SUMMARY:No Strings Attached - Ladies Quilting Group
DESCRIPTION:
URL:https://canoncommunitybaptist.com/event/no-strings-attached-ladies-quilting-group/
LOCATION:Canon Community Baptist\, 1111 Monroe Avenue\, Canon City\, CO\, 81212\, United States
END:VEVENT
BEGIN:VEVENT
DTSTART;VALUE=DATE:20260429
DTEND;VALUE=DATE:20260430
DTSTAMP:20260423T130934
CREATED:20260414T174236Z
LAST-MODIFIED:20260414T174236Z
UID:1303-1777420800-1777507199@canoncommunitybaptist.com
SUMMARY:Every Wednesday-Wise Guys at 6:10pm
DESCRIPTION:
URL:https://canoncommunitybaptist.com/event/every-wednesday-wise-guys-at-610pm-8/
LOCATION:Canon Community Baptist\, 1111 Monroe Avenue\, Canon City\, CO\, 81212\, United States
END:VEVENT
BEGIN:VEVENT
DTSTART;VALUE=DATE:20260429
DTEND;VALUE=DATE:20260430
DTSTAMP:20260423T130934
CREATED:20260414T180356Z
LAST-MODIFIED:20260414T191244Z
UID:1309-1777420800-1777507199@canoncommunitybaptist.com
SUMMARY:Wednesdays at CCBC
DESCRIPTION:
URL:https://canoncommunitybaptist.com/event/wednesdays-at-ccbc-8/
LOCATION:Canon Community Baptist\, 1111 Monroe Avenue\, Canon City\, CO\, 81212\, United States
ORGANIZER;CN="CCBC":MAILTO:info@canoncommunitybaptist.com
END:VEVENT
BEGIN:VEVENT
DTSTART;TZID=UTC:20260430T173000
DTEND;TZID=UTC:20260430T200000
DTSTAMP:20260423T130934
CREATED:20260414T191636Z
LAST-MODIFIED:20260414T191636Z
UID:1313-1777570200-1777579200@canoncommunitybaptist.com
SUMMARY:Ladies Craft Time
DESCRIPTION:
URL:https://canoncommunitybaptist.com/event/ladies-craft-time-5/
LOCATION:Canon Community Baptist\, 1111 Monroe Avenue\, Canon City\, CO\, 81212\, United States
END:VEVENT
END:VCALENDAR